BEGIN:VCALENDAR
VERSION:2.0
METHOD:PUBLISH
BEGIN:VEVENT
UID:WILD_APRICOT_EVENT_3292234_SESSION_1
DTSTART:20190614T223000Z
DTEND:20190615T070000Z
SUMMARY:June 2019 - Victorian Beekeeping Clubs Conference
LOCATION:Hyatt Place Melbourne\, Essendon Fields: 1 English St\, Essendon Fields VIC 3041
DESCRIPTION:https://beekeepers.org.au/event-3292234\n\nThe Steering Committee is pleased to announce that The Beekeepers Club Inc. will be the proud host of the 2019 Victorian Beekeeping Clubs Conference.\n  We encourage all members to attend for what is shaping up to be a bumper Conference. Offering keynote speakers in plenary sessions\, as well as three parallel beekeeping.\n  We have pleasure in welcoming eco-visionary\, landscape architect and ABC Gardening Australia’s host Costa Georgiadis as our MC and speaker. \n\n  For information and tickets: https://vicbeeclubs.com.au\n  \n\n  \n\n
DTSTAMP:20260424T182552Z
END:VEVENT
END:VCALENDAR
