BEGIN:VCALENDAR
VERSION:2.0
METHOD:PUBLISH
BEGIN:VEVENT
UID:WILD_APRICOT_EVENT_3286380_SESSION_1
DTSTART:20190321T080000Z
DTEND:20190321T103000Z
SUMMARY:March 2019 Monthly Meeting
LOCATION:NewHope Community Centre: 3-7 Springfield Rd\, Blackburn North (Cnr of Middleborough & Springfield Rd)
DESCRIPTION:https://beekeepers.org.au/event-3286380\n\n                7:00-7:30        Registration and Refreshments\n       \n                   7:30-8:15        Ask a Beekeeper: Q & A Panel \n       \n                   8:15-9:30                                                        Guest Speaker: Shane Doran\n               Bee Relocation Specialist from \n               Bee Removals Victoria\n               Cut outs and Specialist Removal Services                                                                   \n           Guests are welcome to attend club meetings\, a visitors fee of $10 is charged at the door to cover costs.\n  \n\n  \n\n
DTSTAMP:20260424T165346Z
END:VEVENT
END:VCALENDAR
