BEGIN:VCALENDAR
VERSION:2.0
METHOD:PUBLISH
BEGIN:VEVENT
UID:WILD_APRICOT_EVENT_3226932_SESSION_1
DTSTART:20190221T080000Z
DTEND:20190221T103000Z
SUMMARY:February 2019 Monthly Meeting
LOCATION:Doncaster Secondary College\, 123 Church Rd Doncaster Victoria Australia 3108
DESCRIPTION:https://beekeepers.org.au/event-3226932\n\n                7:00-7:30        Registration and Refreshments\n       \n                   7:30-8:15        Ask a Beekeeper: Q & A Panel \n       \n                   8:15-9:30                                                        Guest Speaker: Dr Kale Sniderman \n               School of Earth Sciences\, University of Melbourne\nVerifying the origin of Australian honeys by analysis\n               of their pollen content                                                                   \n           Guests are welcome to attend club meetings\, a visitors fee of $10 is charged at the door to cover costs.\n  \n\n  \n\n
DTSTAMP:20260424T163901Z
END:VEVENT
END:VCALENDAR
