BEGIN:VCALENDAR
VERSION:2.0
METHOD:PUBLISH
BEGIN:VEVENT
UID:WILD_APRICOT_EVENT_3208092_SESSION_1
DTSTART:20190315T223000Z
DTEND:20190316T053000Z
SUMMARY:Intermediate Workshop: Improving your Beekeeping (March 16th)
LOCATION:Heidelberg Lower Hall\, St John's Anglican Church\, 1 Burgundy St\, Heidelberg
DESCRIPTION:https://beekeepers.org.au/event-3208092\n\nThis workshop follows on from the beginners course and will help build confidence and independence in your  beekeeping.  It reviews and extends the topics covered in the beginners courses and includes:\n      * Harvesting honey\n\n        * Feeding and overwintering your bees\n\n\n        * Splits and making increase\n\n\n        * Swarm prevention and collection (including artificial swarming)\n\n\n        * Finding the queen\n\n\n        * Diseases and pests\n\n\n        * Equipment building and maintenance\n\n\n     Workshop activities will feature hands on\, interactive practical exercises.  Participants will undertake a number of simulated hive manipulations in addition to carrying out open hive inspections at the apiary.      \n      Lunch and morning tea included in registration.      \n   Discounted registration is available for attendees at our most recent beginners courses.  This requires the event coupon code.\n 
DTSTAMP:20260424T164522Z
END:VEVENT
END:VCALENDAR
