BEGIN:VCALENDAR
VERSION:2.0
METHOD:PUBLISH
BEGIN:VEVENT
UID:WILD_APRICOT_EVENT_3177949_SESSION_1
DTSTART:20190117T080000Z
DTEND:20190117T103000Z
SUMMARY:January 2019 Monthly Meeting
LOCATION:Doncaster Secondary College\, 123 Church Rd Doncaster Victoria Australia 3108
DESCRIPTION:https://beekeepers.org.au/event-3177949\n\n                7:00-8:00        Registration\, Refreshments \n       & Sausage Sizzle Supper                   8:00-8:30        Q & A                   8:30-9:30        Screening: Bee Bio Security Masterclass\n       - Focus on Varroa Mite \n                                                                          Guests are welcome to attend club meetings\, a visitors fee of $10 is charged at the door to cover costs.\n\n\n  \n\n
DTSTAMP:20260424T183017Z
END:VEVENT
END:VCALENDAR
