BEGIN:VCALENDAR
VERSION:2.0
METHOD:PUBLISH
BEGIN:VEVENT
UID:WILD_APRICOT_EVENT_3135041_SESSION_1
DTSTART:20181220T080000Z
DTEND:20181220T103000Z
SUMMARY:Pizza on the Lawn (Festive December Meeting)
LOCATION:St John's Anglican Church\, 1 Burgundy St\, Heidelberg
DESCRIPTION:https://beekeepers.org.au/event-3135041\n\n\n  Pizza on the Lawn - Festive December Meeting\n  In keeping with tradition\, we are delighted to be hosting our December Meeting with the Garden Group @ St John's.\n  Set amongst the beautiful trees & lawn behind the Church\, there will be games & fun to have for all.\n  The Happy Camper Pizza Truck will be in attendance making up delicious handmade wood fired pizza's onsite. There will also be Lebanese delights from Melbourne's original A1 Bakery\, and of course sweets included!\n  This is Picnic style theme\, BYO picnic rug & drinks (Soft drink will be provided)\n  If the weather is looking like it is going to be unkind\, we've also secured the main hall with lots of chairs and tables for everyone.\n  Price: $10 members\, partners and guests.\n * RSVP is required for catering purposes.\n  \n\n
DTSTAMP:20260424T165435Z
END:VEVENT
END:VCALENDAR
