BEGIN:VCALENDAR
VERSION:2.0
METHOD:PUBLISH
BEGIN:VEVENT
UID:WILD_APRICOT_EVENT_3106186_SESSION_1
DTSTART:20181115T080000Z
DTEND:20181115T103000Z
SUMMARY:November 2018 Monthly Meeting - Fire Prevention
LOCATION:Doncaster Secondary College\, 123 Church Rd Doncaster Victoria Australia 3108
DESCRIPTION:https://beekeepers.org.au/event-3106186\n\n                7:00-7:30        Registration and refreshments                   7:30-8:15        Q & A                   8:15-9:30                                                        Fire Prevention and Bushfire Management\n               Amanda Lamont\n               Australian Institute for Disaster Resillience                                                                    \n           Guests are welcome to attend club meetings\, a visitors fee of $10 is charged at the door to cover costs.\n\n\n  \n\n
DTSTAMP:20260424T165500Z
END:VEVENT
END:VCALENDAR
