BEGIN:VCALENDAR
VERSION:2.0
METHOD:PUBLISH
BEGIN:VEVENT
UID:WILD_APRICOT_EVENT_3089546_SESSION_1
DTSTART:20181018T080000Z
DTEND:20181018T103000Z
SUMMARY:October 2018 Monthly Meeting (Trade night)
LOCATION:Doncaster Secondary College\, 123 Church Rd Doncaster Victoria Australia 3108
DESCRIPTION:https://beekeepers.org.au/event-3089546\n\n                7:00-7:30        Registration and refreshments                   7:30-8:00        Jessica Millar (DEDJTR)                    8:00-9:30        Trade exhibition including:\n       Bec's Beehive\n       Edmond's Honey\n       Kelvin Trading                            \n           Guests are welcome to attend club meetings\, a visitors fee of $10 is charged at the door to cover costs.\n\n\n  \n\n
DTSTAMP:20260424T165355Z
END:VEVENT
END:VCALENDAR
