BEGIN:VCALENDAR
VERSION:2.0
METHOD:PUBLISH
BEGIN:VEVENT
UID:WILD_APRICOT_EVENT_3057367_SESSION_1
DTSTART:20180920T090000Z
DTEND:20180920T113000Z
SUMMARY:September 2018 Monthly Meeting (Swarms)
LOCATION:Doncaster Secondary College\, 123 Church Rd Doncaster Victoria Australia 3108
DESCRIPTION:https://beekeepers.org.au/event-3057367\n\n                7:00-7:30        Registration and refreshments                    7:30        Swarm prevention\, control & collecting\n       (John\, Mat & Helmut)                    8:30-9:30        Extended Q&A                            \n           Guests are welcome to attend club meetings\, a visitors fee of $5 is charged at the door to cover refreshments.\n\n\n  \n\n
DTSTAMP:20260424T184442Z
END:VEVENT
END:VCALENDAR
