BEGIN:VCALENDAR
VERSION:2.0
METHOD:PUBLISH
BEGIN:VEVENT
UID:WILD_APRICOT_EVENT_2966149_SESSION_1
DTSTART:20180719T090000Z
DTEND:20180719T113000Z
SUMMARY:July 2018 Monthly Meeting (Bee-sting allergy)
LOCATION:Doncaster Secondary College\, 123 Church Rd Doncaster Victoria Australia 3108
DESCRIPTION:https://beekeepers.org.au/event-2966149\n\n                7:00-7:30        Registration and refreshments                    7:30        Q&A                    8:00        Bee-sting Allergy presented by Kate Nicholls\n                    9:00        Members' meeting           Guests are welcome to attend club meetings\, a visitors fee of $5 is charged at the door to cover refreshments.\n\n\n  \n\n
DTSTAMP:20260424T165415Z
END:VEVENT
END:VCALENDAR
