BEGIN:VCALENDAR
VERSION:2.0
METHOD:PUBLISH
BEGIN:VEVENT
UID:WILD_APRICOT_EVENT_2966007_SESSION_1
DTSTART:20180621T090000Z
DTEND:20180621T113000Z
SUMMARY:June 2018 Monthly Meeting (Biosecurity)
LOCATION:Doncaster Secondary College\, 123 Church Rd Doncaster Victoria Australia 3108
DESCRIPTION:https://beekeepers.org.au/event-2966007\n\n                7:00-7:30        Registration and refreshments                    7:30        Q&A                    8:00        Bee biosecurity presented by John Treloar\n                    9:00        Members' meeting           Guests are welcome to attend club meetings\, a visitors fee of $5 is charged at the door to cover refreshments.\n\n\n  \n\n
DTSTAMP:20260424T173606Z
END:VEVENT
END:VCALENDAR
