BEGIN:VCALENDAR
VERSION:2.0
METHOD:PUBLISH
BEGIN:VEVENT
UID:WILD_APRICOT_EVENT_2903612_SESSION_1
DTSTART:20180615T220000Z
DTEND:20180617T073000Z
SUMMARY:Beechworth Field Trip
LOCATION:Beechworth
DESCRIPTION:https://beekeepers.org.au/event-2903612\n\nJoin fellow club members on our now annual* beekeeping field trip. This year we are venturing to the High Country\, visiting apiaries and some of the local gourmet food producers.  \nSaturday\n      * Andrew Nicklaus Apiary\n\n        * Beechworth Honey (Honey Shop and Australian Beekeeping Archive & Museum)\n\n        * Accommodation at Wangaratta Gateway Hotel including dinner with Guest Speaker Lynton Briggs\, Queen Breeder\n\n  \nSunday\n      * Milawa Cheese\,\n\n        * Walkabout Apiary\n\n        * Milawa Mustard factory\n\n\n Cost includes coach plus shared hotel room\, including dinner and breakfast ($130 members\, $150 non-member partners). Family membership pair $260.  Single room surcharge is $70 (select member rate and checkbox on next page).  Early booking is advised as there are only 57 coach seats available. After 20th May\, if there are any places unsold we will offer them to other beekeeping clubs - make sure you don't miss out. This is a package arrangement with no allowance for own transport alternatives.\n\n  The bus will leave Doncaster Secondary College on Saturday at 8.00 am and return on Sunday ~5.00 pm.\n  *Previous highly successful trips to Robinvale\, Castlemaine\, Tasmania\, Perth and Maryborough.\n  \n\n  \n\n  The club reserves the right to cancel the trip in the event of failing to reach a minimum number of registrants.\n\n
DTSTAMP:20260424T184713Z
END:VEVENT
END:VCALENDAR
