BEGIN:VCALENDAR
VERSION:2.0
METHOD:PUBLISH
BEGIN:VEVENT
UID:WILD_APRICOT_EVENT_2874418_SESSION_1
DTSTART:20180517T090000Z
DTEND:20180517T113000Z
SUMMARY:May 2018 Monthly Meeting (Honey competition)
LOCATION:Doncaster Secondary College\, 123 Church Rd Doncaster Victoria Australia 3108
DESCRIPTION:https://beekeepers.org.au/event-2874418\n\n                7:00-7:30        Registration and refreshments                    7:30        Q&A                    8:00        Honey competition and film\n                    9:00        Members' meeting           Guests are welcome to attend club meetings\, a visitors fee of $5 is charged at the door to cover refreshments.\n\n\n  \n\n
DTSTAMP:20260424T163948Z
END:VEVENT
END:VCALENDAR
