BEGIN:VCALENDAR
VERSION:2.0
METHOD:PUBLISH
BEGIN:VEVENT
UID:WILD_APRICOT_EVENT_2860292_SESSION_1
DTSTART:20180324T000000Z
DTEND:20180324T000000Z
SUMMARY:Club Apiary Opening (Mar 24th)
LOCATION:Community Garden\, St Johns Anglican Church\, 1 Burgundy St\, Heidelberg
DESCRIPTION:https://beekeepers.org.au/event-2860292\n\nPlease register (free) for the event so we know numbers.   \n\n
DTSTAMP:20260424T165510Z
END:VEVENT
END:VCALENDAR
