BEGIN:VCALENDAR
VERSION:2.0
METHOD:PUBLISH
BEGIN:VEVENT
UID:WILD_APRICOT_EVENT_2825944_SESSION_1
DTSTART:20181013T000000Z
DTEND:20181013T000000Z
SUMMARY:Nuc Nanny (session 1 of 3)
LOCATION:Community Garden\, St Johns Anglican Church\, 1 Burgundy St\, Heidelberg
DESCRIPTION:https://beekeepers.org.au/event-2825944\n\n\nraise your own nucleus colony\nThis program is a great way to obtain your first bees.  We purchase and supply queens from a commercial breeder.  Under supervision you will set up a nucleus hive at the club apiary.  A corflute nuc and frames of brood from the club hives are provided.  Over the next weeks\, we guide and assist with inspections\; monitoring queen release\, commencement of laying and colony establishment.\n  The program will extend over a month requiring weekly weekend apiary visits. On completion you will take the nuc home to install in your own hive.\n\n  Dates are provisional and depend on queen delivery and weather.  There is some flexibility with inspection dates allowing a certain amount of individual variation.\n\n  Due to limited resources this program is available to members only and capped at 10 places.  It is aimed at new members who must have completed a beginners course and will ensure a flying start to their beekeeping career.\n  Last year's program was an outstanding success with all participants happily installing their bees at home following completion.  It was noticeable how quickly handling skills and confidence were built.\n\n
DTSTAMP:20260424T165425Z
END:VEVENT
BEGIN:VEVENT
UID:WILD_APRICOT_EVENT_2825944_SESSION_2
DTSTART:20181020T000000Z
DTEND:20181020T000000Z
SUMMARY:Nuc Nanny (session 2 of 3)
LOCATION:Community Garden\, St Johns Anglican Church\, 1 Burgundy St\, Heidelberg
DESCRIPTION:https://beekeepers.org.au/event-2825944\n\n\nraise your own nucleus colony\nThis program is a great way to obtain your first bees.  We purchase and supply queens from a commercial breeder.  Under supervision you will set up a nucleus hive at the club apiary.  A corflute nuc and frames of brood from the club hives are provided.  Over the next weeks\, we guide and assist with inspections\; monitoring queen release\, commencement of laying and colony establishment.\n  The program will extend over a month requiring weekly weekend apiary visits. On completion you will take the nuc home to install in your own hive.\n\n  Dates are provisional and depend on queen delivery and weather.  There is some flexibility with inspection dates allowing a certain amount of individual variation.\n\n  Due to limited resources this program is available to members only and capped at 10 places.  It is aimed at new members who must have completed a beginners course and will ensure a flying start to their beekeeping career.\n  Last year's program was an outstanding success with all participants happily installing their bees at home following completion.  It was noticeable how quickly handling skills and confidence were built.\n\n
DTSTAMP:20260424T165425Z
END:VEVENT
BEGIN:VEVENT
UID:WILD_APRICOT_EVENT_2825944_SESSION_3
DTSTART:20181027T000000Z
DTEND:20181027T000000Z
SUMMARY:Nuc Nanny (session 3 of 3)
LOCATION:Community Garden\, St Johns Anglican Church\, 1 Burgundy St\, Heidelberg
DESCRIPTION:https://beekeepers.org.au/event-2825944\n\n\nraise your own nucleus colony\nThis program is a great way to obtain your first bees.  We purchase and supply queens from a commercial breeder.  Under supervision you will set up a nucleus hive at the club apiary.  A corflute nuc and frames of brood from the club hives are provided.  Over the next weeks\, we guide and assist with inspections\; monitoring queen release\, commencement of laying and colony establishment.\n  The program will extend over a month requiring weekly weekend apiary visits. On completion you will take the nuc home to install in your own hive.\n\n  Dates are provisional and depend on queen delivery and weather.  There is some flexibility with inspection dates allowing a certain amount of individual variation.\n\n  Due to limited resources this program is available to members only and capped at 10 places.  It is aimed at new members who must have completed a beginners course and will ensure a flying start to their beekeeping career.\n  Last year's program was an outstanding success with all participants happily installing their bees at home following completion.  It was noticeable how quickly handling skills and confidence were built.\n\n
DTSTAMP:20260424T165425Z
END:VEVENT
END:VCALENDAR
