BEGIN:VCALENDAR
VERSION:2.0
METHOD:PUBLISH
BEGIN:VEVENT
UID:WILD_APRICOT_EVENT_2825022_SESSION_1
DTSTART:20180224T000000Z
DTEND:20180224T000000Z
SUMMARY:Club Apiary Opening (Feb 24th)
LOCATION:Community Garden\, St Johns Anglican Church\, 1 Burgundy St\, Heidelberg
DESCRIPTION:https://beekeepers.org.au/event-2825022\n\nPlease register (free) for the event so we know numbers.   \n\n
DTSTAMP:20260424T182807Z
END:VEVENT
END:VCALENDAR
