BEGIN:VCALENDAR
VERSION:2.0
METHOD:PUBLISH
BEGIN:VEVENT
UID:WILD_APRICOT_EVENT_2813884_SESSION_1
DTSTART:20180419T090000Z
DTEND:20180419T113000Z
SUMMARY:April 2018 Monthly Meeting (Winter pack down and documentary)
LOCATION:Doncaster Secondary College\, 123 Church Rd Doncaster Victoria Australia 3108
DESCRIPTION:https://beekeepers.org.au/event-2813884\n\n                7:00-7:30        Registration and refreshments                    7:30        Q&A: Winter Pack Down                    8:00        Documentary: Lawyers\, Guns and Honey\n                    9:00        Members' meeting           Guests are welcome to attend club meetings\, a visitors fee of $5 is charged at the door to cover refreshments.\n\n\n  \n\n
DTSTAMP:20260424T172149Z
END:VEVENT
END:VCALENDAR
