BEGIN:VCALENDAR
VERSION:2.0
METHOD:PUBLISH
BEGIN:VEVENT
UID:WILD_APRICOT_EVENT_2813874_SESSION_1
DTSTART:20180215T080000Z
DTEND:20180215T103000Z
SUMMARY:February 2018 Meeting: Beeswax
LOCATION:Doncaster Secondary College\, 123 Church Rd Doncaster Victoria Australia 3108
DESCRIPTION:https://beekeepers.org.au/event-2813874\n\n                7:00-7:30        Registration and refreshments                    7:30        Q&A                    8:00        Beeswax: its processing and use (various speakers)\n                    9:00        Members' meeting           Guests are welcome to attend club meetings\, a visitors fee of $5 is charged at the door to cover refreshments.\n\n\n  \n\n
DTSTAMP:20260424T163923Z
END:VEVENT
END:VCALENDAR
