BEGIN:VCALENDAR
VERSION:2.0
METHOD:PUBLISH
BEGIN:VEVENT
UID:WILD_APRICOT_EVENT_2791021_SESSION_1
DTSTART:20180120T000000Z
DTEND:20180120T000000Z
SUMMARY:Club Apiary Opening (Jan 20th)
LOCATION:Community Garden\, St Johns Anglican Church\, 1 Burgundy St\, Heidelberg
DESCRIPTION:https://beekeepers.org.au/event-2791021\n\nPlease register (free) for the event so we know numbers.   \n\n
DTSTAMP:20260424T163810Z
END:VEVENT
END:VCALENDAR
