BEGIN:VCALENDAR
VERSION:2.0
METHOD:PUBLISH
BEGIN:VEVENT
UID:WILD_APRICOT_EVENT_2767346_SESSION_1
DTSTART:20180118T080000Z
DTEND:20180118T103000Z
SUMMARY:January 2018 Monthly Meeting
LOCATION:Doncaster Secondary College\, 123 Church Rd Doncaster Victoria Australia 3108
DESCRIPTION:https://beekeepers.org.au/event-2767346\n\n                7:00-7:30         Registration and refreshments                    7:30         Q&A                    8:00                     *  Honey Extraction Demonstration presented by Don Muir\n\n                * Commercial Beekeeping presented by Paul Davies\n\n                           9:00         Members' meeting           Guests are welcome to attend club meetings\, a visitors fee of $5 is charged at the door to cover refreshments.\n\n\n  \n\n
DTSTAMP:20260424T183851Z
END:VEVENT
END:VCALENDAR
