BEGIN:VCALENDAR
VERSION:2.0
METHOD:PUBLISH
BEGIN:VEVENT
UID:WILD_APRICOT_EVENT_2713345_SESSION_1
DTSTART:20171201T223000Z
DTEND:20171203T030000Z
SUMMARY:Queen Rearing Course
LOCATION:Club Apiary\, St John's Anglican Church\, 1 Burgundy St\, Heidelberg
DESCRIPTION:https://beekeepers.org.au/event-2713345\n\nQueen rearing allows you to propagate from your best stock thus improving your apiary\, is cheap and an important skill for beekeepers to develop. Grafting is straightforward and should not be intimidating.\n  In this course we will highlight the biological principles of queen rearing\, introduce the genetic concepts\, summarise the various methods of rearing queens and conduct practical exercises in grafting and starting queen cells. \n  Students will gain hands on experience of the steps and will be eligible to receive a capped queen cell 10 days later to use in their own hives.\n\n  Registration now open (places strictly limited). Note that this is a more advanced course that is aimed at experienced beekeepers who are already familiar with honey bee biology and husbandry and who are accustomed to  handling bees.\n\n
DTSTAMP:20260424T184723Z
END:VEVENT
END:VCALENDAR
