BEGIN:VCALENDAR
VERSION:2.0
METHOD:PUBLISH
BEGIN:VEVENT
UID:WILD_APRICOT_EVENT_2695993_SESSION_1
DTSTART:20171116T080000Z
DTEND:20171116T103000Z
SUMMARY:November 2017 Monthly Meeting
LOCATION:Doncaster Secondary College\, 123 Church Rd Doncaster Victoria Australia 3108  (Melway 33 G12)
DESCRIPTION:https://beekeepers.org.au/event-2695993\n\n7:00-7:30 Registration and refreshments\n 7:30 Q&A\n 8:00 Apimondia Istanbul 2017 Report presented by Aris Petratos and Andrew Wootton\n 9:00 Members' meeting
DTSTAMP:20260424T183209Z
END:VEVENT
END:VCALENDAR
