BEGIN:VCALENDAR
VERSION:2.0
METHOD:PUBLISH
BEGIN:VEVENT
UID:WILD_APRICOT_EVENT_2695033_SESSION_1
DTSTART:20171124T223000Z
DTEND:20171125T053000Z
SUMMARY:November 2017 Beginners Course
LOCATION:Heidelberg Lower Hall\, St John's Anglican Church\, 1 Burgundy St\, Heidelberg
DESCRIPTION:https://beekeepers.org.au/event-2695033\n\nThis Introduction to Beekeeping course is designed to provide new beekeepers with both the practical skills and the background knowledge to start beekeeping with confidence. \n\n  The all day program is highly interactive and includes a live hive opening in the on site club apiary as well as other hands-on skill building exercises. Background instruction incorporates equipment selection and bee biology in addition to details of the Apiary and Biosecurity Codes of Practice.\n\n  Our highly qualified tutors have experience with both conventional Langstroth hives and the new Flow hives as well as top bar hives.\n\n  Included in the course fee are a comprehensive handbook and a copy of the textbook The Australian Beekeeping Manual * which retails at $50.\n\n  The hive session is weather dependent and in the event of completely unsuitable weather\, we will schedule an alternative date or dates.  \n  A certificate of completion will be awarded once the online quiz has been successfully attempted.\n\n   No previous experience is required and loan protective equipment is available for the hive session.  Lunch\, tea and coffee will be provided.\n\n  Please note: you are required to join the club to attend this course.  This provides insurance cover as well as many other benefits. Please complete your membership application before registering for the course.\n\n  * “…an excellent\, but above all extremely comprehensive reference book\, that is at the same time...eminently readable.”  Australasian Beekeeper\, November 2015\n"a standout reference for the new beekeeper..."  The Amateur Beekeeper\, August 2016
DTSTAMP:20260424T184232Z
END:VEVENT
END:VCALENDAR
