BEGIN:VCALENDAR
VERSION:2.0
METHOD:PUBLISH
BEGIN:VEVENT
UID:WILD_APRICOT_EVENT_2672911_SESSION_1
DTSTART:20171015T010000Z
DTEND:20171015T010000Z
SUMMARY:Club Apiary Opening
LOCATION:Community Garden\, St Johns Anglican Church\, 1 Burgundy St\, Heidelberg
DESCRIPTION:https://beekeepers.org.au/event-2672911\n\nThe official gala launch of our club apiary. Come along and meet the community gardeners.  Hives will be opened\, sausages will be sizzled and bees will be talked.  Please register (free) for the event so we know numbers.  There will be a gold coin donation on the day to contribute to the catering cost.\n  Stop Press: Raffle prize of a swarm (already housed in a nuc and available for immediate collection and transfer to your hive.  These swarmed from a member's hive and are gentle\, productive bees).\n\n  \n\n
DTSTAMP:20260424T165520Z
END:VEVENT
END:VCALENDAR
