BEGIN:VCALENDAR
VERSION:2.0
METHOD:PUBLISH
BEGIN:VEVENT
UID:WILD_APRICOT_EVENT_2654277_SESSION_1
DTSTART:20171014T000000Z
DTEND:20171014T000000Z
SUMMARY:Nuc Nanny
LOCATION:
DESCRIPTION:https://beekeepers.org.au/event-2654277\n\nFor this program\, we will purchase and supply queens from a commercial supplier.  Under supervision you will set up a nucleus hive at the club apiary.  A corflute nuc and frames of brood from the club hives will be supplied.  Over the next weeks we will assist with inspections\, monitoring release and laying.\n  The program will extend over a month requiring weekly weekend apiary visits. On completion you will take the nuc home to install in your own hive. \n\n  Due to limited resources this program is available to members only.  Our intention is to assist new members who have just completed the beginners course in getting a flying start.\n
DTSTAMP:20260424T183159Z
END:VEVENT
END:VCALENDAR
