BEGIN:VCALENDAR
VERSION:2.0
METHOD:PUBLISH
BEGIN:VEVENT
UID:WILD_APRICOT_EVENT_2628253_SESSION_1
DTSTART:20170921T090000Z
DTEND:20170921T113000Z
SUMMARY:September 2017 Monthly Meeting "Raising Queens"
LOCATION:Doncaster Secondary College\, 123 Church Rd Doncaster Victoria Australia 3108  (Melway 33 G12)
DESCRIPTION:https://beekeepers.org.au/event-2628253\n\n7:00-7:30 Registration and refreshments\n 7:30 Q&A\n 8:00 Raising Queens         * The biology of queens\, drones and mating\, A Wootton\n\n          * Splitting to raise queens\, M Lumalasi\n\n          * Grafting and artificial insemination\, A Wootton\n\n 9:00 Members' meeting
DTSTAMP:20260424T184037Z
END:VEVENT
END:VCALENDAR
