BEGIN:VCALENDAR
VERSION:2.0
METHOD:PUBLISH
BEGIN:VEVENT
UID:WILD_APRICOT_EVENT_2609037_SESSION_1
DTSTART:20170817T090000Z
DTEND:20170817T113000Z
SUMMARY:August 2017 Monthly Meeting "AGM and Biosecurity Regulations"
LOCATION:Doncaster Secondary College\, 123 Church Rd Doncaster Victoria Australia 3108  (Melway 33 G12)
DESCRIPTION:https://beekeepers.org.au/event-2609037\n\n7:00-7:30 Registration and refreshments\n 7:30 AGM\n 8:00 Update on new biosecurity regulations and Apiary Code of Practice (presented by Don Muir and incorporating Q&A)\n 9:00 Members' meeting
DTSTAMP:20260424T184509Z
END:VEVENT
END:VCALENDAR
