BEGIN:VCALENDAR
VERSION:2.0
METHOD:PUBLISH
BEGIN:VEVENT
UID:WILD_APRICOT_EVENT_2556883_SESSION_1
DTSTART:20170720T090000Z
DTEND:20170720T113000Z
SUMMARY:July 2017 Monthly Meeting "Preparing for spring: swarming"
LOCATION:Doncaster Secondary College\, 123 Church Rd Doncaster Victoria Australia 3108  (Melway 33 G12)
DESCRIPTION:https://beekeepers.org.au/event-2556883\n\n7:00-7:30 Registration and refreshments\n 7:30 Presentations      * Swarm biology\; Andrew Wootton\n\n        * Swarm prevention\; Mat Lumalasi\n\n        * Swarm collecting\; Helmut Huber\n\n8:15 Q&A\n 9:00 Members' meeting  \n\n  This month's meeting takes a slightly different format with the main theme and beginners corner being combined.\n\n
DTSTAMP:20260424T182839Z
END:VEVENT
END:VCALENDAR
