BEGIN:VCALENDAR
VERSION:2.0
METHOD:PUBLISH
BEGIN:VEVENT
UID:WILD_APRICOT_EVENT_2550559_SESSION_1
DTSTART:20170721T220000Z
DTEND:20170722T073000Z
SUMMARY:Maryborough Trip
LOCATION:Maryborough
DESCRIPTION:https://beekeepers.org.au/event-2550559\n\nWhirrakee Woodware (bee keeping equipment manufacturer)  Gell’s Honey (commercial apiary).\n  The Whirrakee factory will be in full production. It will be a great opportunity to see supers and frames being made from sawn timber through the whole process up to and including hot wax dipping and painting.\n  We then move onto Ken Gell’s property and have the opportunity to see a large scale commercial operation and hear about beekeeping from a commercial aspect.\n  Early booking is advised as there are only 56 seats available.  Members' guests can be registered at additional cost\n\n  The bus will leave Doncaster Secondary College at 8.00 am and return ~5.00 pm.\n  Lunch is included.\n  The club reserves the right to cancel the trip in the event of failing to reach a minimum number of registrants.\n\n
DTSTAMP:20260424T182526Z
END:VEVENT
END:VCALENDAR
