BEGIN:VCALENDAR
VERSION:2.0
METHOD:PUBLISH
BEGIN:VEVENT
UID:WILD_APRICOT_EVENT_2531820_SESSION_1
DTSTART:20170615T090000Z
DTEND:20170615T113000Z
SUMMARY:June 2017 Monthly Meeting "Honey Competition"
LOCATION:Doncaster Secondary College\, 123 Church Rd Doncaster Victoria Australia 3108  (Melway 33 G12)
DESCRIPTION:https://beekeepers.org.au/event-2531820\n\n7:00-7:30 Registration and refreshments\n7:30  Beginners' Corner\n 8:00 Honey Competition Judging and Results\n 9:00 Members' meeting\n
DTSTAMP:20260424T184215Z
END:VEVENT
END:VCALENDAR
