BEGIN:VCALENDAR
VERSION:2.0
METHOD:PUBLISH
BEGIN:VEVENT
UID:WILD_APRICOT_EVENT_2531814_SESSION_1
DTSTART:20170518T090000Z
DTEND:20170518T113000Z
SUMMARY:May 2017 Monthly Meeting "Insect Photography"
LOCATION:Doncaster Secondary College\, 123 Church Rd Doncaster Victoria Australia 3108  (Melway 33 G12)
DESCRIPTION:https://beekeepers.org.au/event-2531814\n\n  Prominent Melbourne photographer Nick Monaghan specialises in insect photography.  His website lifeunseen.com showcases his work and his many insect field trips.  Nick will talk about how he goes about capturing that "special shot" and will highlight the stunning results.\n7:00-7:30 Registration and refreshments\n7:30  Beginners' Corner\n 8:00 Insect Photography\, presented by Nick Monaghan\n 9:00 Members' meeting\n
DTSTAMP:20260424T164557Z
END:VEVENT
END:VCALENDAR
