BEGIN:VCALENDAR
VERSION:2.0
METHOD:PUBLISH
BEGIN:VEVENT
UID:WILD_APRICOT_EVENT_2521577_SESSION_1
DTSTART:20170728T233000Z
DTEND:20170729T063000Z
SUMMARY:Winter Workshop: improving your beekeeping
LOCATION:Siteworks\, 33 Saxon St\, Brunswick 3056
DESCRIPTION:https://beekeepers.org.au/event-2521577\n\nA winter refresher at intermediate level\, designed for club members to build confidence and independence in their beekeeping.  \n  Reviews and extends topics covered in the beginners courses and includes:\n      * Inspecting and handling bees\n\n\n        * Splits and making increase\n\n\n        * Swarm prevention and collection (including artificial swarming)\n\n\n        * Diseases and pests\n\n\n        * Equipment building and maintenance\n\n\n     Workshop activities will principally feature hands on\, interactive practical exercises.  Participants will undertake a number of simulated hive manipulations.      \n      Lunch and morning tea included in registration.      \n 
DTSTAMP:20260424T182945Z
END:VEVENT
END:VCALENDAR
