BEGIN:VCALENDAR
VERSION:2.0
METHOD:PUBLISH
BEGIN:VEVENT
UID:WILD_APRICOT_EVENT_2520966_SESSION_1
DTSTART:20170906T093000Z
DTEND:20170906T120000Z
SUMMARY:September 2017 Beginners Course (session 1 of 4)
LOCATION:Heidelberg Lower Hall\, St John's Anglican Church\, 1 Burgundy St\, Heidelberg
DESCRIPTION:https://beekeepers.org.au/event-2520966\n\nThis Fundamentals of Beekeeping Course is designed to provide new beekeepers with both the practical skills and the background knowledge to start beekeeping with confidence. The program encompasses Langstroth\, Flow and top bar hives and is suitable for all styles of beekeeping.  No previous experience is required. \n  The course includes 3 classroom sessions (Wednesday nights) plus a weekend hive opening exercise during the day.  All sessions are highly interactive and include hands-on skill building exercises. Included in the course fee are a comprehensive handbook and a textbook.\n\n  The hive session is weather dependent and we are normally able to provide alternative dates to ensure participation.  \n  A certificate of completion will be awarded once the online quiz has been successfully attempted. \n Stuart Anderson presenting at our Flow Beginners Course in April 2016
DTSTAMP:20260424T181319Z
END:VEVENT
BEGIN:VEVENT
UID:WILD_APRICOT_EVENT_2520966_SESSION_2
DTSTART:20170913T093000Z
DTEND:20170913T120000Z
SUMMARY:September 2017 Beginners Course (session 2 of 4)
LOCATION:Heidelberg Lower Hall\, St John's Anglican Church\, 1 Burgundy St\, Heidelberg
DESCRIPTION:https://beekeepers.org.au/event-2520966\n\nThis Fundamentals of Beekeeping Course is designed to provide new beekeepers with both the practical skills and the background knowledge to start beekeeping with confidence. The program encompasses Langstroth\, Flow and top bar hives and is suitable for all styles of beekeeping.  No previous experience is required. \n  The course includes 3 classroom sessions (Wednesday nights) plus a weekend hive opening exercise during the day.  All sessions are highly interactive and include hands-on skill building exercises. Included in the course fee are a comprehensive handbook and a textbook.\n\n  The hive session is weather dependent and we are normally able to provide alternative dates to ensure participation.  \n  A certificate of completion will be awarded once the online quiz has been successfully attempted. \n Stuart Anderson presenting at our Flow Beginners Course in April 2016
DTSTAMP:20260424T181319Z
END:VEVENT
BEGIN:VEVENT
UID:WILD_APRICOT_EVENT_2520966_SESSION_3
DTSTART:20170920T093000Z
DTEND:20170920T120000Z
SUMMARY:September 2017 Beginners Course (session 3 of 4)
LOCATION:Heidelberg Lower Hall\, St John's Anglican Church\, 1 Burgundy St\, Heidelberg
DESCRIPTION:https://beekeepers.org.au/event-2520966\n\nThis Fundamentals of Beekeeping Course is designed to provide new beekeepers with both the practical skills and the background knowledge to start beekeeping with confidence. The program encompasses Langstroth\, Flow and top bar hives and is suitable for all styles of beekeeping.  No previous experience is required. \n  The course includes 3 classroom sessions (Wednesday nights) plus a weekend hive opening exercise during the day.  All sessions are highly interactive and include hands-on skill building exercises. Included in the course fee are a comprehensive handbook and a textbook.\n\n  The hive session is weather dependent and we are normally able to provide alternative dates to ensure participation.  \n  A certificate of completion will be awarded once the online quiz has been successfully attempted. \n Stuart Anderson presenting at our Flow Beginners Course in April 2016
DTSTAMP:20260424T181319Z
END:VEVENT
BEGIN:VEVENT
UID:WILD_APRICOT_EVENT_2520966_SESSION_4
DTSTART:20170923T030000Z
DTEND:20170923T040000Z
SUMMARY:September 2017 Beginners Course (session 4 of 4)
LOCATION:Heidelberg Lower Hall\, St John's Anglican Church\, 1 Burgundy St\, Heidelberg
DESCRIPTION:https://beekeepers.org.au/event-2520966\n\nThis Fundamentals of Beekeeping Course is designed to provide new beekeepers with both the practical skills and the background knowledge to start beekeeping with confidence. The program encompasses Langstroth\, Flow and top bar hives and is suitable for all styles of beekeeping.  No previous experience is required. \n  The course includes 3 classroom sessions (Wednesday nights) plus a weekend hive opening exercise during the day.  All sessions are highly interactive and include hands-on skill building exercises. Included in the course fee are a comprehensive handbook and a textbook.\n\n  The hive session is weather dependent and we are normally able to provide alternative dates to ensure participation.  \n  A certificate of completion will be awarded once the online quiz has been successfully attempted. \n Stuart Anderson presenting at our Flow Beginners Course in April 2016
DTSTAMP:20260424T181319Z
END:VEVENT
END:VCALENDAR
