BEGIN:VCALENDAR
VERSION:2.0
METHOD:PUBLISH
BEGIN:VEVENT
UID:WILD_APRICOT_EVENT_2500502_SESSION_1
DTSTART:20170420T090000Z
DTEND:20170420T113000Z
SUMMARY:April 2017 Monthly Meeting "Biosecurity"
LOCATION:Doncaster Secondary College\, 123 Church Rd Doncaster Victoria Australia 3108  (Melway 33 G12)
DESCRIPTION:https://beekeepers.org.au/event-2500502\n\nMonthly Meeting (Note new venue)\n7:00-7:30: Registration and refreshments\n7:30 Honey Bee Biosecurity - Dealing with Wax Moth\, presented by Linda Anderson-Berry and Jenni Fenton\n 8:30 Special General Meeting (continuation of adjourned meeting of 16/3/17)\n
DTSTAMP:20260424T172124Z
END:VEVENT
END:VCALENDAR
