BEGIN:VCALENDAR
VERSION:2.0
METHOD:PUBLISH
BEGIN:VEVENT
UID:WILD_APRICOT_EVENT_2500494_SESSION_1
DTSTART:20170324T233000Z
DTEND:20170325T010000Z
SUMMARY:Steering Visit #15 Knoxfield
LOCATION:Knoxfield
DESCRIPTION:https://beekeepers.org.au/event-2500494\n\nSteering Visit (SiTE mEntoRING VISIT) Hive type: Langstroth\n\n  \n  The mentor will be attending the location to conduct a routine inspection to check hive status. Novice club members are invited to register and come along to look and learn. This will be an informal and interactive hands on experience aimed at building skills and knowledge.\n\n  Please register your interest.  Numbers are limited to 6 so that everyone can gather round the hive.\n\n  You will provide your own protective equipment.  Light refreshments will be provided by the host.\n  Notes:\n\n      * Closing date for registration is 6pm Thursday 23rd March.\n\n        * These events are member only\, so you will be asked to log in to the website to register.\n\n\n        * The visit is contingent on the weather and may have to be rescheduled if this is unsuitable. An email confirming it is going ahead will be sent to a couple of days before. This will include the site address and the telephone number of the host and mentor.\n\n
DTSTAMP:20260424T164445Z
END:VEVENT
END:VCALENDAR
