BEGIN:VCALENDAR
VERSION:2.0
METHOD:PUBLISH
BEGIN:VEVENT
UID:WILD_APRICOT_EVENT_2463161_SESSION_1
DTSTART:20170217T233000Z
DTEND:20170218T010000Z
SUMMARY:Steering Visit #10 Box Hill
LOCATION:Box Hil
DESCRIPTION:https://beekeepers.org.au/event-2463161\n\nSteering Visit (SiTE mEntoRING VISIT) This visit will assist with extracting a substantial number of honey frames. Hives will be opened to identify frames\, bees shaken off and uncapping and extraction carried out.\n\n  The mentor will be attending the location to conduct a routine inspection to check hive status. Novice club members are invited to register and come along to look and learn. This will be an informal and interactive hands on experience aimed at building skills and knowledge.\n\n  Please register your interest.  Numbers are limited to 6 so that everyone can gather round the hive.\n\n  You will provide your own protective equipment.  Light refreshments will be provided by the host.\n  Note: the visit is contingent on the weather and may have to be rescheduled if this is unsuitable. An email confirming it is going ahead will be sent to a couple of days before. We will also send the address and telephone number of the mentor.\n\n
DTSTAMP:20260424T165405Z
END:VEVENT
END:VCALENDAR
