BEGIN:VCALENDAR
VERSION:2.0
METHOD:PUBLISH
BEGIN:VEVENT
UID:WILD_APRICOT_EVENT_2461460_SESSION_1
DTSTART:20170226T000000Z
DTEND:20170226T040000Z
SUMMARY:Hive Opening Social Day
LOCATION:Lookover Rd\, Donvale
DESCRIPTION:https://beekeepers.org.au/event-2461460\n\nCome along to open and inspect the club hives under the guidance of experienced beekeepers.   Both experienced and new beekeepers welcome.\n\n  Sausage sizzle and light refreshments.\n  Entry fee is by gold coin donation on the day.  However\, please register for catering purposes.\n\n
DTSTAMP:20260424T164622Z
END:VEVENT
END:VCALENDAR
