BEGIN:VCALENDAR
VERSION:2.0
METHOD:PUBLISH
BEGIN:VEVENT
UID:WILD_APRICOT_EVENT_2440304_SESSION_1
DTSTART:20170216T080000Z
DTEND:20170216T103000Z
SUMMARY:February Meeting (Inventors Fair)
LOCATION:Doncaster Secondary College\, 123 Church Rd Doncaster Victoria Australia 3108  (Melway 33 G12)
DESCRIPTION:https://beekeepers.org.au/event-2440304\n\nMonthly Meeting (Note new venue)\n  7:00-7:30: Registration and refreshments\n  7:30 Beginners' Q&A\n  8:00 Inventors Fair\n      * Hive Scale\n\n        * FLIR camera\n\n        * Hive Lifter\n\n        * Bee Vac\n\n        * YouTube how to\n\n  9.00 Members' Meeting\n\n
DTSTAMP:20260424T184933Z
END:VEVENT
END:VCALENDAR
