BEGIN:VCALENDAR
VERSION:2.0
METHOD:PUBLISH
BEGIN:VEVENT
UID:WILD_APRICOT_EVENT_2412940_SESSION_1
DTSTART:20170119T080000Z
DTEND:20170119T103000Z
SUMMARY:January 2017 Monthly Meeting
LOCATION:Doncaster Secondary College\, 123 Church Rd Doncaster Victoria Australia 3108  (Melway 33 G12)
DESCRIPTION:https://beekeepers.org.au/event-2412940\n\nMonthly Meeting (Note new venue)\n  7:00-7:30: Registration and refreshments\n\n  7:30: Beginners Corner  Q & A\n\n  8:00: Main Presentation "Challenges of a difficult season" Eric Smith\n\n  Members' Meeting:\n\n
DTSTAMP:20260424T164512Z
END:VEVENT
END:VCALENDAR
