BEGIN:VCALENDAR
VERSION:2.0
METHOD:PUBLISH
BEGIN:VEVENT
UID:WILD_APRICOT_EVENT_2412196_SESSION_1
DTSTART:20170106T230000Z
DTEND:20170107T000000Z
SUMMARY:Steering Visit Riddells Creek (10:00 am)
LOCATION:Riddells Creek
DESCRIPTION:https://beekeepers.org.au/event-2412196\n\nSteering Visit (SiTE mEntoRING VISIT)\n  The mentor will be attending the location to conduct a routine inspection to check hive status. Novice club members are invited to register and come along to look and learn. This will be an informal and interactive hands on experience aimed at building skills and knowledge.\n\n  Please register your interest.  Numbers are limited to 10 so that everyone can gather round the hive.\n\n  You will provide your own protective equipment.  Light refreshments will be provided by the host.\n  Note: the visit is contingent on the weather and may have to be rescheduled if this is unsuitable. An email confirming it is going ahead will be sent to you the day before. We will also send the address\, telephone number of the mentor and any car pooling arrangements.\n
DTSTAMP:20260424T185142Z
END:VEVENT
END:VCALENDAR
