BEGIN:VCALENDAR
VERSION:2.0
METHOD:PUBLISH
BEGIN:VEVENT
UID:WILD_APRICOT_EVENT_2354310_SESSION_1
DTSTART:20170201T083000Z
DTEND:20170201T110000Z
SUMMARY:February Beginners Course (session 1 of 3)
LOCATION:Club Rooms 895-901 Doncaster Rd\, Doncaster (Hives: 33 Saxon St\, Brunswick\, 3056)
DESCRIPTION:https://beekeepers.org.au/event-2354310\n\nThis Fundamentals of Beekeeping Course is designed to provide new beekeepers with both the practical skills and the background knowledge to start beekeeping with confidence. The program encompasses Langstroth\, Flow and top bar hives and is suitable for all styles of beekeeping.  No previous experience is required. \n  The course includes 3 classroom sessions (Wednesday nights) plus a weekend hive opening exercise during the day.  All sessions are highly interactive and include hands-on skill building exercises. Included in the course fee are a comprehensive handbook and a textbook.\n\n  The hive session is weather dependent and we are normally able to provide alternative dates to ensure participation.  \n  A certificate of completion will be awarded once the online quiz has been successfully attempted. \n Stuart Anderson presenting at our Flow Beginners Course in April 2016
DTSTAMP:20260424T185250Z
END:VEVENT
BEGIN:VEVENT
UID:WILD_APRICOT_EVENT_2354310_SESSION_2
DTSTART:20170208T083000Z
DTEND:20170208T110000Z
SUMMARY:February Beginners Course (session 2 of 3)
LOCATION:Club Rooms 895-901 Doncaster Rd\, Doncaster (Hives: 33 Saxon St\, Brunswick\, 3056)
DESCRIPTION:https://beekeepers.org.au/event-2354310\n\nThis Fundamentals of Beekeeping Course is designed to provide new beekeepers with both the practical skills and the background knowledge to start beekeeping with confidence. The program encompasses Langstroth\, Flow and top bar hives and is suitable for all styles of beekeeping.  No previous experience is required. \n  The course includes 3 classroom sessions (Wednesday nights) plus a weekend hive opening exercise during the day.  All sessions are highly interactive and include hands-on skill building exercises. Included in the course fee are a comprehensive handbook and a textbook.\n\n  The hive session is weather dependent and we are normally able to provide alternative dates to ensure participation.  \n  A certificate of completion will be awarded once the online quiz has been successfully attempted. \n Stuart Anderson presenting at our Flow Beginners Course in April 2016
DTSTAMP:20260424T185250Z
END:VEVENT
BEGIN:VEVENT
UID:WILD_APRICOT_EVENT_2354310_SESSION_3
DTSTART:20170215T083000Z
DTEND:20170215T110000Z
SUMMARY:February Beginners Course (session 3 of 3)
LOCATION:Club Rooms 895-901 Doncaster Rd\, Doncaster (Hives: 33 Saxon St\, Brunswick\, 3056)
DESCRIPTION:https://beekeepers.org.au/event-2354310\n\nThis Fundamentals of Beekeeping Course is designed to provide new beekeepers with both the practical skills and the background knowledge to start beekeeping with confidence. The program encompasses Langstroth\, Flow and top bar hives and is suitable for all styles of beekeeping.  No previous experience is required. \n  The course includes 3 classroom sessions (Wednesday nights) plus a weekend hive opening exercise during the day.  All sessions are highly interactive and include hands-on skill building exercises. Included in the course fee are a comprehensive handbook and a textbook.\n\n  The hive session is weather dependent and we are normally able to provide alternative dates to ensure participation.  \n  A certificate of completion will be awarded once the online quiz has been successfully attempted. \n Stuart Anderson presenting at our Flow Beginners Course in April 2016
DTSTAMP:20260424T185250Z
END:VEVENT
END:VCALENDAR
